Package: rawrr Version: 1.16.0 Command: /home/biocbuild/bbs-3.21-bioc/R/bin/R CMD build --keep-empty-dirs --no-resave-data rawrr StartedAt: 2025-10-15 19:21:18 -0400 (Wed, 15 Oct 2025) EndedAt: 2025-10-15 19:22:20 -0400 (Wed, 15 Oct 2025) EllapsedTime: 62.0 seconds RetCode: 0 Status: OK PackageFile: rawrr_1.16.0.tar.gz PackageFileSize: 2.304 MiB