Package: rawrr Version: 1.16.0 Command: /Library/Frameworks/R.framework/Resources/bin/R CMD build --keep-empty-dirs --no-resave-data rawrr StartedAt: 2025-04-21 18:05:02 -0400 (Mon, 21 Apr 2025) EndedAt: 2025-04-21 18:06:27 -0400 (Mon, 21 Apr 2025) EllapsedTime: 85.7 seconds RetCode: 0 Status: OK PackageFile: rawrr_1.16.0.tar.gz PackageFileSize: 1.993 MiB