Package: rawrr Version: 1.16.0 Command: /home/biocbuild/R/R/bin/R CMD build --keep-empty-dirs --no-resave-data rawrr StartedAt: 2025-10-07 03:50:32 -0000 (Tue, 07 Oct 2025) EndedAt: 2025-10-07 03:50:49 -0000 (Tue, 07 Oct 2025) EllapsedTime: 17.0 seconds RetCode: 1 Status: ERROR PackageFile: None PackageFileSize: NA