Package: rawrr Version: 1.16.0 Command: /Library/Frameworks/R.framework/Resources/bin/R CMD build --keep-empty-dirs --no-resave-data rawrr StartedAt: 2025-10-07 07:39:59 -0400 (Tue, 07 Oct 2025) EndedAt: 2025-10-07 07:40:15 -0400 (Tue, 07 Oct 2025) EllapsedTime: 15.5 seconds RetCode: 1 Status: ERROR PackageFile: None PackageFileSize: NA