Package: rawDiag Version: 1.4.0 Command: rm -rf rawDiag.buildbin-libdir && mkdir rawDiag.buildbin-libdir && E:\biocbuild\bbs-3.21-bioc\R\bin\R.exe CMD INSTALL --build --library=rawDiag.buildbin-libdir rawDiag_1.4.0.tar.gz StartedAt: 2025-08-15 10:02:26 -0400 (Fri, 15 Aug 2025) EndedAt: 2025-08-15 10:02:51 -0400 (Fri, 15 Aug 2025) EllapsedTime: 24.8 seconds RetCode: 0 Status: OK PackageFile: rawDiag_1.4.0.zip PackageFileSize: 963.6 KiB