Package: rawDiag Version: 1.4.0 Command: /home/biocbuild/R/R/bin/R CMD build --keep-empty-dirs --no-resave-data rawDiag StartedAt: 2025-10-14 03:50:25 -0000 (Tue, 14 Oct 2025) EndedAt: 2025-10-14 03:50:37 -0000 (Tue, 14 Oct 2025) EllapsedTime: 12.0 seconds RetCode: 1 Status: ERROR PackageFile: None PackageFileSize: NA