Package: randRotation Version: 1.20.0 Command: /Library/Frameworks/R.framework/Resources/bin/R CMD INSTALL randRotation StartedAt: 2025-04-21 15:04:21 -0400 (Mon, 21 Apr 2025) EndedAt: 2025-04-21 15:04:54 -0400 (Mon, 21 Apr 2025) EllapsedTime: 32.7 seconds RetCode: 0 Status: OK