Package: randRotation Version: 1.20.0 Command: /home/biocbuild/R/R/bin/R CMD INSTALL randRotation StartedAt: 2025-10-13 20:14:08 -0000 (Mon, 13 Oct 2025) EndedAt: 2025-10-13 20:14:31 -0000 (Mon, 13 Oct 2025) EllapsedTime: 23.7 seconds RetCode: 0 Status: OK