Package: randRotation Version: 1.20.0 Command: /home/biocbuild/R/R/bin/R CMD check --install=check:randRotation.install-out.txt --library=/home/biocbuild/R/R/site-library --no-vignettes --timings randRotation_1.20.0.tar.gz StartedAt: 2025-10-14 13:01:05 -0000 (Tue, 14 Oct 2025) EndedAt: 2025-10-14 13:01:57 -0000 (Tue, 14 Oct 2025) EllapsedTime: 52.1 seconds RetCode: 1 Status: ERROR CheckDir: randRotation.Rcheck Warnings: NA