Package: randRotation Version: 1.20.0 Command: /home/biocbuild/R/R/bin/R CMD build --keep-empty-dirs --no-resave-data randRotation StartedAt: 2025-10-14 03:49:57 -0000 (Tue, 14 Oct 2025) EndedAt: 2025-10-14 03:52:32 -0000 (Tue, 14 Oct 2025) EllapsedTime: 155.1 seconds RetCode: 0 Status: OK PackageFile: randRotation_1.20.0.tar.gz PackageFileSize: 962.3 KiB