Package: ramwas Version: 1.32.0 Command: /home/biocbuild/R/R/bin/R CMD INSTALL ramwas StartedAt: 2025-10-13 20:47:56 -0000 (Mon, 13 Oct 2025) EndedAt: 2025-10-13 20:48:45 -0000 (Mon, 13 Oct 2025) EllapsedTime: 48.8 seconds RetCode: 0 Status: OK