Package: ramwas Version: 1.32.0 Command: /home/biocbuild/R/R/bin/R CMD check --install=check:ramwas.install-out.txt --library=/home/biocbuild/R/R/site-library --no-vignettes --timings ramwas_1.32.0.tar.gz StartedAt: 2025-10-14 13:00:59 -0000 (Tue, 14 Oct 2025) EndedAt: 2025-10-14 13:06:06 -0000 (Tue, 14 Oct 2025) EllapsedTime: 307.5 seconds RetCode: 0 Status: OK CheckDir: ramwas.Rcheck Warnings: 0