Package: ramwas Version: 1.32.0 Command: /home/biocbuild/R/R/bin/R CMD build --keep-empty-dirs --no-resave-data ramwas StartedAt: 2025-10-14 03:49:44 -0000 (Tue, 14 Oct 2025) EndedAt: 2025-10-14 03:55:35 -0000 (Tue, 14 Oct 2025) EllapsedTime: 351.1 seconds RetCode: 0 Status: OK PackageFile: ramwas_1.32.0.tar.gz PackageFileSize: 3.273 MiB