Package: ramwas Version: 1.32.0 Command: /Library/Frameworks/R.framework/Resources/bin/R CMD INSTALL ramwas StartedAt: 2025-04-21 15:18:10 -0400 (Mon, 21 Apr 2025) EndedAt: 2025-04-21 15:18:25 -0400 (Mon, 21 Apr 2025) EllapsedTime: 14.6 seconds RetCode: 0 Status: OK