Package: raer Version: 1.6.0 Command: /Library/Frameworks/R.framework/Resources/bin/R CMD INSTALL raer StartedAt: 2025-10-13 16:08:51 -0400 (Mon, 13 Oct 2025) EndedAt: 2025-10-13 16:10:28 -0400 (Mon, 13 Oct 2025) EllapsedTime: 96.7 seconds RetCode: 0 Status: OK