Package: raer Version: 1.6.0 Command: /Library/Frameworks/R.framework/Resources/bin/R CMD build --keep-empty-dirs --no-resave-data raer StartedAt: 2025-10-13 21:48:47 -0400 (Mon, 13 Oct 2025) EndedAt: 2025-10-13 22:03:46 -0400 (Mon, 13 Oct 2025) EllapsedTime: 899.4 seconds RetCode: 0 Status: OK PackageFile: raer_1.6.0.tar.gz PackageFileSize: 2.418 MiB