Package: raer Version: 1.6.0 Command: /Library/Frameworks/R.framework/Resources/bin/R CMD INSTALL raer StartedAt: 2025-04-21 15:31:30 -0400 (Mon, 21 Apr 2025) EndedAt: 2025-04-21 15:32:35 -0400 (Mon, 21 Apr 2025) EllapsedTime: 64.6 seconds RetCode: 0 Status: OK