Package: raer Version: 1.6.0 Command: /Library/Frameworks/R.framework/Resources/bin/R CMD check --install=check:raer.install-out.txt --library=/Library/Frameworks/R.framework/Resources/library --no-vignettes --timings raer_1.6.0.tar.gz StartedAt: 2025-10-11 10:07:33 -0400 (Sat, 11 Oct 2025) EndedAt: 2025-10-11 10:16:06 -0400 (Sat, 11 Oct 2025) EllapsedTime: 512.7 seconds RetCode: 0 Status: OK CheckDir: raer.Rcheck Warnings: 0