Package: raer Version: 1.6.0 Command: /Library/Frameworks/R.framework/Resources/bin/R CMD build --keep-empty-dirs --no-resave-data raer StartedAt: 2025-10-10 07:37:47 -0400 (Fri, 10 Oct 2025) EndedAt: 2025-10-10 07:48:05 -0400 (Fri, 10 Oct 2025) EllapsedTime: 617.8 seconds RetCode: 0 Status: OK PackageFile: raer_1.6.0.tar.gz PackageFileSize: 2.42 MiB