Package: raer Version: 1.6.0 Command: rm -rf raer.buildbin-libdir && mkdir raer.buildbin-libdir && /Users/biocbuild/BBS/utils/build-universal.sh raer_1.6.0.tar.gz /Library/Frameworks/R.framework/Resources/bin/R raer.buildbin-libdir StartedAt: 2025-10-11 21:42:27 -0400 (Sat, 11 Oct 2025) EndedAt: 2025-10-11 21:43:32 -0400 (Sat, 11 Oct 2025) EllapsedTime: 65.5 seconds RetCode: 0 Status: OK PackageFile: raer_1.6.0.tgz PackageFileSize: 3.204 MiB