Package: rWikiPathways Version: 1.28.0 Command: /home/biocbuild/bbs-3.21-bioc/R/bin/R CMD INSTALL rWikiPathways StartedAt: 2025-10-15 15:09:23 -0400 (Wed, 15 Oct 2025) EndedAt: 2025-10-15 15:09:35 -0400 (Wed, 15 Oct 2025) EllapsedTime: 11.2 seconds RetCode: 0 Status: OK