Package: rWikiPathways Version: 1.28.0 Command: /Library/Frameworks/R.framework/Resources/bin/R CMD check --install=check:rWikiPathways.install-out.txt --library=/Library/Frameworks/R.framework/Resources/library --no-vignettes --timings rWikiPathways_1.28.0.tar.gz StartedAt: 2025-10-15 10:49:01 -0400 (Wed, 15 Oct 2025) EndedAt: 2025-10-15 10:51:09 -0400 (Wed, 15 Oct 2025) EllapsedTime: 128.0 seconds RetCode: 0 Status: OK CheckDir: rWikiPathways.Rcheck Warnings: 0