Package: rTRM Version: 1.46.0 Command: chmod a+r rTRM -R && E:\biocbuild\bbs-3.21-bioc\R\bin\R.exe CMD build --keep-empty-dirs --no-resave-data rTRM StartedAt: 2025-08-14 21:53:58 -0400 (Thu, 14 Aug 2025) EndedAt: 2025-08-14 21:55:35 -0400 (Thu, 14 Aug 2025) EllapsedTime: 96.5 seconds RetCode: 0 Status: OK PackageFile: rTRM_1.46.0.tar.gz PackageFileSize: 3.17 MiB