Package: rTRM Version: 1.46.0 Command: rm -rf rTRM.buildbin-libdir && mkdir rTRM.buildbin-libdir && E:\biocbuild\bbs-3.21-bioc\R\bin\R.exe CMD INSTALL --build --library=rTRM.buildbin-libdir rTRM_1.46.0.tar.gz StartedAt: 2025-08-15 10:10:43 -0400 (Fri, 15 Aug 2025) EndedAt: 2025-08-15 10:11:13 -0400 (Fri, 15 Aug 2025) EllapsedTime: 29.7 seconds RetCode: 0 Status: OK PackageFile: rTRM_1.46.0.zip PackageFileSize: 3.123 MiB