Package: rScudo Version: 1.24.0 Command: /home/biocbuild/bbs-3.21-bioc/R/bin/R CMD check --install=check:rScudo.install-out.txt --library=/home/biocbuild/bbs-3.21-bioc/R/site-library --timings rScudo_1.24.0.tar.gz StartedAt: 2025-10-16 03:04:09 -0400 (Thu, 16 Oct 2025) EndedAt: 2025-10-16 03:06:20 -0400 (Thu, 16 Oct 2025) EllapsedTime: 130.3 seconds RetCode: 0 Status: OK CheckDir: rScudo.Rcheck Warnings: 0