Package: rScudo Version: 1.24.0 Command: /home/biocbuild/bbs-3.21-bioc/R/bin/R CMD build --keep-empty-dirs --no-resave-data rScudo StartedAt: 2025-10-15 19:35:28 -0400 (Wed, 15 Oct 2025) EndedAt: 2025-10-15 19:37:02 -0400 (Wed, 15 Oct 2025) EllapsedTime: 94.1 seconds RetCode: 0 Status: OK PackageFile: rScudo_1.24.0.tar.gz PackageFileSize: 847.6 KiB