Package: rScudo Version: 1.24.0 Command: /Library/Frameworks/R.framework/Resources/bin/R CMD build --keep-empty-dirs --no-resave-data rScudo StartedAt: 2025-10-13 22:09:58 -0400 (Mon, 13 Oct 2025) EndedAt: 2025-10-13 22:13:54 -0400 (Mon, 13 Oct 2025) EllapsedTime: 235.3 seconds RetCode: 0 Status: OK PackageFile: rScudo_1.24.0.tar.gz PackageFileSize: 927 KiB