Package: rScudo Version: 1.24.0 Command: /Library/Frameworks/R.framework/Resources/bin/R CMD check --install=check:rScudo.install-out.txt --library=/Library/Frameworks/R.framework/Resources/library --no-vignettes --timings rScudo_1.24.0.tar.gz StartedAt: 2025-04-21 23:11:31 -0400 (Mon, 21 Apr 2025) EndedAt: 2025-04-21 23:12:22 -0400 (Mon, 21 Apr 2025) EllapsedTime: 50.3 seconds RetCode: 0 Status: OK CheckDir: rScudo.Rcheck Warnings: 0