Package: rScudo Version: 1.24.0 Command: /home/biocbuild/R/R/bin/R CMD check --install=check:rScudo.install-out.txt --library=/home/biocbuild/R/R/site-library --no-vignettes --timings rScudo_1.24.0.tar.gz StartedAt: 2025-10-14 13:35:42 -0000 (Tue, 14 Oct 2025) EndedAt: 2025-10-14 13:36:56 -0000 (Tue, 14 Oct 2025) EllapsedTime: 74.1 seconds RetCode: 0 Status: OK CheckDir: rScudo.Rcheck Warnings: 0