Package: rScudo Version: 1.24.0 Command: rm -rf rScudo.buildbin-libdir && mkdir rScudo.buildbin-libdir && /Users/biocbuild/BBS/utils/build-universal.sh rScudo_1.24.0.tar.gz /Library/Frameworks/R.framework/Resources/bin/R rScudo.buildbin-libdir StartedAt: 2025-04-21 22:50:08 -0400 (Mon, 21 Apr 2025) EndedAt: 2025-04-21 22:50:10 -0400 (Mon, 21 Apr 2025) EllapsedTime: 2.0 seconds RetCode: 0 Status: OK PackageFile: rScudo_1.24.0.tgz PackageFileSize: 1.018 MiB