Package: rScudo Version: 1.24.0 Command: /Library/Frameworks/R.framework/Resources/bin/R CMD build --keep-empty-dirs --no-resave-data rScudo StartedAt: 2025-10-14 08:11:43 -0400 (Tue, 14 Oct 2025) EndedAt: 2025-10-14 08:13:50 -0400 (Tue, 14 Oct 2025) EllapsedTime: 127.0 seconds RetCode: 0 Status: OK PackageFile: rScudo_1.24.0.tar.gz PackageFileSize: 940.7 KiB