Package: rSWeeP Version: 1.20.0 Command: rm -rf rSWeeP.buildbin-libdir && mkdir rSWeeP.buildbin-libdir && /Users/biocbuild/BBS/utils/build-universal.sh rSWeeP_1.20.0.tar.gz /Library/Frameworks/R.framework/Resources/bin/R rSWeeP.buildbin-libdir StartedAt: 2025-10-14 14:38:23 -0400 (Tue, 14 Oct 2025) EndedAt: 2025-10-14 14:38:55 -0400 (Tue, 14 Oct 2025) EllapsedTime: 31.4 seconds RetCode: 0 Status: OK PackageFile: rSWeeP_1.20.0.tgz PackageFileSize: 461.6 KiB