Package: rRDP Version: 1.42.0 Command: E:\biocbuild\bbs-3.21-bioc\R\bin\R.exe CMD INSTALL rRDP StartedAt: 2025-08-14 15:51:42 -0400 (Thu, 14 Aug 2025) EndedAt: 2025-08-14 15:52:00 -0400 (Thu, 14 Aug 2025) EllapsedTime: 18.0 seconds RetCode: 0 Status: OK