Package: rGenomeTracks Version: 1.14.0 Command: /home/biocbuild/bbs-3.21-bioc/R/bin/R CMD INSTALL rGenomeTracks StartedAt: 2025-10-15 15:25:08 -0400 (Wed, 15 Oct 2025) EndedAt: 2025-10-15 15:25:15 -0400 (Wed, 15 Oct 2025) EllapsedTime: 6.6 seconds RetCode: 0 Status: OK