Package: rGenomeTracks Version: 1.14.0 Command: /home/biocbuild/bbs-3.21-bioc/R/bin/R CMD check --install=check:rGenomeTracks.install-out.txt --library=/home/biocbuild/bbs-3.21-bioc/R/site-library --timings rGenomeTracks_1.14.0.tar.gz StartedAt: 2025-10-16 02:49:14 -0400 (Thu, 16 Oct 2025) EndedAt: 2025-10-16 02:50:04 -0400 (Thu, 16 Oct 2025) EllapsedTime: 50.1 seconds RetCode: 0 Status: OK CheckDir: rGenomeTracks.Rcheck Warnings: 0