Package: rGenomeTracks Version: 1.14.0 Command: /Library/Frameworks/R.framework/Resources/bin/R CMD INSTALL rGenomeTracks StartedAt: 2025-10-13 15:47:21 -0400 (Mon, 13 Oct 2025) EndedAt: 2025-10-13 15:47:29 -0400 (Mon, 13 Oct 2025) EllapsedTime: 8.4 seconds RetCode: 0 Status: OK