Package: rGenomeTracks Version: 1.14.0 Command: /Library/Frameworks/R.framework/Resources/bin/R CMD build --keep-empty-dirs --no-resave-data rGenomeTracks StartedAt: 2025-10-14 07:41:37 -0400 (Tue, 14 Oct 2025) EndedAt: 2025-10-14 07:41:53 -0400 (Tue, 14 Oct 2025) EllapsedTime: 15.9 seconds RetCode: 0 Status: OK PackageFile: rGenomeTracks_1.14.0.tar.gz PackageFileSize: 3.345 MiB