Package: rCGH Version: 1.38.0 Command: /home/biocbuild/bbs-3.21-bioc/R/bin/R CMD build --keep-empty-dirs --no-resave-data rCGH StartedAt: 2025-10-15 19:23:06 -0400 (Wed, 15 Oct 2025) EndedAt: 2025-10-15 19:24:33 -0400 (Wed, 15 Oct 2025) EllapsedTime: 87.1 seconds RetCode: 0 Status: OK PackageFile: rCGH_1.38.0.tar.gz PackageFileSize: 4.033 MiB