Package: rCGH Version: 1.38.0 Command: rm -rf rCGH.buildbin-libdir && mkdir rCGH.buildbin-libdir && /Users/biocbuild/BBS/utils/build-universal.sh rCGH_1.38.0.tar.gz /Library/Frameworks/R.framework/Resources/bin/R rCGH.buildbin-libdir StartedAt: 2025-04-22 01:02:52 -0400 (Tue, 22 Apr 2025) EndedAt: 2025-04-22 01:03:57 -0400 (Tue, 22 Apr 2025) EllapsedTime: 64.5 seconds RetCode: 0 Status: OK PackageFile: rCGH_1.38.0.tgz PackageFileSize: 4.888 MiB