Package: rCGH Version: 1.38.0 Command: /home/biocbuild/R/R/bin/R CMD build --keep-empty-dirs --no-resave-data rCGH StartedAt: 2025-10-14 03:52:48 -0000 (Tue, 14 Oct 2025) EndedAt: 2025-10-14 03:54:48 -0000 (Tue, 14 Oct 2025) EllapsedTime: 120.0 seconds RetCode: 0 Status: OK PackageFile: rCGH_1.38.0.tar.gz PackageFileSize: 3.982 MiB