Package: rBiopaxParser Version: 2.48.0 Command: rm -rf rBiopaxParser.buildbin-libdir && mkdir rBiopaxParser.buildbin-libdir && E:\biocbuild\bbs-3.21-bioc\R\bin\R.exe CMD INSTALL --build --library=rBiopaxParser.buildbin-libdir rBiopaxParser_2.48.0.tar.gz StartedAt: 2025-08-15 10:02:52 -0400 (Fri, 15 Aug 2025) EndedAt: 2025-08-15 10:04:23 -0400 (Fri, 15 Aug 2025) EllapsedTime: 90.2 seconds RetCode: 0 Status: OK PackageFile: rBiopaxParser_2.48.0.zip PackageFileSize: 738.7 KiB