Package: rBiopaxParser Version: 2.48.0 Command: /Library/Frameworks/R.framework/Resources/bin/R CMD check --install=check:rBiopaxParser.install-out.txt --library=/Library/Frameworks/R.framework/Resources/library --no-vignettes --timings rBiopaxParser_2.48.0.tar.gz StartedAt: 2025-10-14 08:51:02 -0400 (Tue, 14 Oct 2025) EndedAt: 2025-10-14 08:52:46 -0400 (Tue, 14 Oct 2025) EllapsedTime: 104.5 seconds RetCode: 0 Status: OK CheckDir: rBiopaxParser.Rcheck Warnings: 0