Package: rBiopaxParser Version: 2.48.0 Command: /Library/Frameworks/R.framework/Resources/bin/R CMD build --keep-empty-dirs --no-resave-data rBiopaxParser StartedAt: 2025-10-13 21:51:55 -0400 (Mon, 13 Oct 2025) EndedAt: 2025-10-13 21:52:18 -0400 (Mon, 13 Oct 2025) EllapsedTime: 23.0 seconds RetCode: 0 Status: OK PackageFile: rBiopaxParser_2.48.0.tar.gz PackageFileSize: 897.6 KiB