Package: rBiopaxParser Version: 2.48.0 Command: /home/biocbuild/R/R/bin/R CMD check --install=check:rBiopaxParser.install-out.txt --library=/home/biocbuild/R/R/site-library --no-vignettes --timings rBiopaxParser_2.48.0.tar.gz StartedAt: 2025-09-30 13:28:58 -0000 (Tue, 30 Sep 2025) EndedAt: 2025-09-30 13:30:00 -0000 (Tue, 30 Sep 2025) EllapsedTime: 62.1 seconds RetCode: 0 Status: OK CheckDir: rBiopaxParser.Rcheck Warnings: 0