Package: rBiopaxParser Version: 2.48.0 Command: /Library/Frameworks/R.framework/Resources/bin/R CMD INSTALL rBiopaxParser StartedAt: 2025-10-13 15:08:04 -0400 (Mon, 13 Oct 2025) EndedAt: 2025-10-13 15:08:08 -0400 (Mon, 13 Oct 2025) EllapsedTime: 4.0 seconds RetCode: 0 Status: OK