Package: rBiopaxParser Version: 2.48.0 Command: /Library/Frameworks/R.framework/Resources/bin/R CMD check --install=check:rBiopaxParser.install-out.txt --library=/Library/Frameworks/R.framework/Resources/library --no-vignettes --timings rBiopaxParser_2.48.0.tar.gz StartedAt: 2025-10-15 08:58:42 -0400 (Wed, 15 Oct 2025) EndedAt: 2025-10-15 08:59:36 -0400 (Wed, 15 Oct 2025) EllapsedTime: 54.0 seconds RetCode: 0 Status: OK CheckDir: rBiopaxParser.Rcheck Warnings: 0