Package: rBiopaxParser Version: 2.48.0 Command: /Library/Frameworks/R.framework/Resources/bin/R CMD build --keep-empty-dirs --no-resave-data rBiopaxParser StartedAt: 2025-10-14 07:23:05 -0400 (Tue, 14 Oct 2025) EndedAt: 2025-10-14 07:23:20 -0400 (Tue, 14 Oct 2025) EllapsedTime: 15.7 seconds RetCode: 0 Status: OK PackageFile: rBiopaxParser_2.48.0.tar.gz PackageFileSize: 897.8 KiB