Package: rBiopaxParser Version: 2.48.0 Command: rm -rf rBiopaxParser.buildbin-libdir && mkdir rBiopaxParser.buildbin-libdir && /Users/biocbuild/BBS/utils/build-universal.sh rBiopaxParser_2.48.0.tar.gz /Library/Frameworks/R.framework/Resources/bin/R rBiopaxParser.buildbin-libdir StartedAt: 2025-10-15 19:58:40 -0400 (Wed, 15 Oct 2025) EndedAt: 2025-10-15 19:58:47 -0400 (Wed, 15 Oct 2025) EllapsedTime: 6.7 seconds RetCode: 0 Status: OK PackageFile: rBiopaxParser_2.48.0.tgz PackageFileSize: 861.7 KiB