Package: rBLAST Version: 1.4.0 Command: /Library/Frameworks/R.framework/Resources/bin/R CMD check --install=check:rBLAST.install-out.txt --library=/Library/Frameworks/R.framework/Resources/library --no-vignettes --timings rBLAST_1.4.0.tar.gz StartedAt: 2025-10-14 08:51:31 -0400 (Tue, 14 Oct 2025) EndedAt: 2025-10-14 08:54:08 -0400 (Tue, 14 Oct 2025) EllapsedTime: 157.5 seconds RetCode: 0 Status: OK CheckDir: rBLAST.Rcheck Warnings: 0