Package: rBLAST Version: 1.4.0 Command: rm -rf rBLAST.buildbin-libdir && mkdir rBLAST.buildbin-libdir && /Users/biocbuild/BBS/utils/build-universal.sh rBLAST_1.4.0.tar.gz /Library/Frameworks/R.framework/Resources/bin/R rBLAST.buildbin-libdir StartedAt: 2025-10-14 14:29:23 -0400 (Tue, 14 Oct 2025) EndedAt: 2025-10-14 14:29:48 -0400 (Tue, 14 Oct 2025) EllapsedTime: 25.2 seconds RetCode: 0 Status: OK PackageFile: rBLAST_1.4.0.tgz PackageFileSize: 49.29 KiB